git_url: https://git.bioconductor.org/packages/GWENA
git_branch: RELEASE_3_17
git_last_commit: 1d67dc7
git_last_commit_date: 2023-07-03 06:15:24 -0400 (Mon, 03 Jul 2023)
Package: GWENA
Version: 1.10.0
Maintainer: Gwenaëlle Lemoine
MaintainerEmail: lemoine.gwenaelle at gmail.com