git_url: https://git.bioconductor.org/packages/GSAR
git_branch: RELEASE_3_17
git_last_commit: 8c3f047
git_last_commit_date: 2023-04-25 10:32:36 -0400 (Tue, 25 Apr 2023)
Package: GSAR
Version: 1.34.0
Maintainer: Yasir Rahmatallah <yrahmatallah@uams.edu>, Galina Glazko
MaintainerEmail: gvglazko at uams.edu