git_url: https://git.bioconductor.org/packages/GRridge
git_branch: RELEASE_3_17
git_last_commit: e03cf5c
git_last_commit_date: 2023-04-25 10:51:13 -0400 (Tue, 25 Apr 2023)
Package: GRridge
Version: 1.24.0
Maintainer: Mark A. van de Wiel
MaintainerEmail: mark.vdwiel at vumc.nl