Package: GRaNIE Version: 1.4.1 Command: rm -rf GRaNIE.buildbin-libdir && mkdir GRaNIE.buildbin-libdir && F:\biocbuild\bbs-3.17-bioc\R\bin\R.exe CMD INSTALL --build --library=GRaNIE.buildbin-libdir GRaNIE_1.4.1.tar.gz StartedAt: 2023-10-16 08:54:00 -0400 (Mon, 16 Oct 2023) EndedAt: 2023-10-16 08:55:10 -0400 (Mon, 16 Oct 2023) EllapsedTime: 70.1 seconds RetCode: 0 Status: OK PackageFile: GRaNIE_1.4.1.zip PackageFileSize: 7.201 MiB