Package: GRaNIE Version: 1.4.1 Command: /Library/Frameworks/R.framework/Resources/bin/R CMD INSTALL GRaNIE StartedAt: 2023-10-15 16:29:15 -0400 (Sun, 15 Oct 2023) EndedAt: 2023-10-15 16:32:09 -0400 (Sun, 15 Oct 2023) EllapsedTime: 173.2 seconds RetCode: 0 Status: OK