##############################################################################
##############################################################################
###
### Running command:
###
###   chmod a+r GOexpress -R && F:\biocbuild\bbs-3.17-bioc\R\bin\R.exe CMD build --keep-empty-dirs --no-resave-data GOexpress
###
##############################################################################
##############################################################################


* checking for file 'GOexpress/DESCRIPTION' ... OK
* preparing 'GOexpress':
* checking DESCRIPTION meta-information ... OK
* installing the package to build vignettes
* creating vignettes ... OK
* checking for LF line-endings in source and make files and shell scripts
* checking for empty or unneeded directories
* building 'GOexpress_1.34.0.tar.gz'