Package: GOexpress Version: 1.34.0 Command: rm -rf GOexpress.buildbin-libdir && mkdir GOexpress.buildbin-libdir && F:\biocbuild\bbs-3.17-bioc\R\bin\R.exe CMD INSTALL --build --library=GOexpress.buildbin-libdir GOexpress_1.34.0.tar.gz StartedAt: 2023-10-16 08:53:22 -0400 (Mon, 16 Oct 2023) EndedAt: 2023-10-16 08:53:47 -0400 (Mon, 16 Oct 2023) EllapsedTime: 25.2 seconds RetCode: 0 Status: OK PackageFile: GOexpress_1.34.0.zip PackageFileSize: 3.027 MiB