Package: GOexpress
Version: 1.34.0
Command: /home/biocbuild/bbs-3.17-bioc/R/bin/R CMD check --install=check:GOexpress.install-out.txt --library=/home/biocbuild/bbs-3.17-bioc/R/site-library --timings GOexpress_1.34.0.tar.gz
StartedAt: 2023-10-15 21:45:08 -0400 (Sun, 15 Oct 2023)
EndedAt: 2023-10-15 21:47:47 -0400 (Sun, 15 Oct 2023)
EllapsedTime: 158.4 seconds
RetCode: 0
Status: OK
CheckDir: GOexpress.Rcheck
Warnings: 0