Package: GOexpress Version: 1.34.0 Command: /home/biocbuild/bbs-3.17-bioc/R/bin/R CMD build --keep-empty-dirs --no-resave-data GOexpress StartedAt: 2023-10-15 16:58:15 -0400 (Sun, 15 Oct 2023) EndedAt: 2023-10-15 16:58:51 -0400 (Sun, 15 Oct 2023) EllapsedTime: 35.6 seconds RetCode: 0 Status: OK PackageFile: GOexpress_1.34.0.tar.gz PackageFileSize: 2.346 <A href="http://en.wikipedia.org/wiki/MiB" target="_blank">MiB</A>