Package: GOexpress Version: 1.34.0 Command: /Library/Frameworks/R.framework/Resources/bin/R CMD build --keep-empty-dirs --no-resave-data GOexpress StartedAt: 2023-10-15 18:38:35 -0400 (Sun, 15 Oct 2023) EndedAt: 2023-10-15 18:40:11 -0400 (Sun, 15 Oct 2023) EllapsedTime: 95.7 seconds RetCode: 0 Status: OK PackageFile: GOexpress_1.34.0.tar.gz PackageFileSize: 2.345 MiB