Package: GEOsubmission Version: 1.52.0 Command: F:\biocbuild\bbs-3.17-bioc\R\bin\R.exe CMD INSTALL GEOsubmission StartedAt: 2023-10-15 15:51:18 -0400 (Sun, 15 Oct 2023) EndedAt: 2023-10-15 15:51:24 -0400 (Sun, 15 Oct 2023) EllapsedTime: 5.6 seconds RetCode: 0 Status: OK