Package: GEOsubmission Version: 1.52.0 Command: chmod a+r GEOsubmission -R && F:\biocbuild\bbs-3.17-bioc\R\bin\R.exe CMD build --keep-empty-dirs --no-resave-data GEOsubmission StartedAt: 2023-10-15 19:31:07 -0400 (Sun, 15 Oct 2023) EndedAt: 2023-10-15 19:31:19 -0400 (Sun, 15 Oct 2023) EllapsedTime: 12.0 seconds RetCode: 0 Status: OK PackageFile: GEOsubmission_1.52.0.tar.gz PackageFileSize: 79.61 KiB