Package: GEOsubmission Version: 1.52.0 Command: rm -rf GEOsubmission.buildbin-libdir && mkdir GEOsubmission.buildbin-libdir && /Users/biocbuild/BBS/utils/build-universal.sh GEOsubmission_1.52.0.tar.gz /Library/Frameworks/R.framework/Resources/bin/R GEOsubmission.buildbin-libdir StartedAt: 2023-10-16 09:28:58 -0400 (Mon, 16 Oct 2023) EndedAt: 2023-10-16 09:29:10 -0400 (Mon, 16 Oct 2023) EllapsedTime: 11.4 seconds RetCode: 0 Status: OK PackageFile: GEOsubmission_1.52.0.tgz PackageFileSize: 208.8 <A href="http://en.wikipedia.org/wiki/KiB" target="_blank">KiB</A>