git_url: https://git.bioconductor.org/packages/GEOquery
git_branch: RELEASE_3_17
git_last_commit: 7995c57
git_last_commit_date: 2023-04-25 09:42:56 -0400 (Tue, 25 Apr 2023)
Package: GEOquery
Version: 2.68.0
Maintainer: Sean Davis
MaintainerEmail: seandavi at gmail.com