git_url: https://git.bioconductor.org/packages/FScanR
git_branch: RELEASE_3_17
git_last_commit: 0f596d9
git_last_commit_date: 2023-04-25 11:22:14 -0400 (Tue, 25 Apr 2023)
Package: FScanR
Version: 1.10.0
Maintainer: Xiao Chen
MaintainerEmail: seanchen607 at gmail.com