Package: FRGEpistasis Version: 1.36.0 Command: /home/biocbuild/bbs-3.17-bioc/R/bin/R CMD INSTALL FRGEpistasis StartedAt: 2023-10-15 15:47:55 -0400 (Sun, 15 Oct 2023) EndedAt: 2023-10-15 15:48:02 -0400 (Sun, 15 Oct 2023) EllapsedTime: 7.1 seconds RetCode: 0 Status: OK