Package: FRGEpistasis
Version: 1.36.0
Command: /Library/Frameworks/R.framework/Resources/bin/R CMD INSTALL FRGEpistasis
StartedAt: 2023-10-15 16:27:43 -0400 (Sun, 15 Oct 2023)
EndedAt: 2023-10-15 16:28:04 -0400 (Sun, 15 Oct 2023)
EllapsedTime: 21.2 seconds
RetCode: 0
Status: OK