Package: FRGEpistasis
Version: 1.36.0
Command: /Library/Frameworks/R.framework/Resources/bin/R CMD build --keep-empty-dirs --no-resave-data FRGEpistasis
StartedAt: 2023-10-15 18:24:37 -0400 (Sun, 15 Oct 2023)
EndedAt: 2023-10-15 18:25:12 -0400 (Sun, 15 Oct 2023)
EllapsedTime: 35.6 seconds
RetCode: 0
Status: OK
PackageFile: FRGEpistasis_1.36.0.tar.gz
PackageFileSize: 314.9 <A href="http://en.wikipedia.org/wiki/KiB" target="_blank">KiB</A>