git_url: https://git.bioconductor.org/packages/FRASER
git_branch: RELEASE_3_17
git_last_commit: 72d97bf
git_last_commit_date: 2023-05-01 20:07:22 -0400 (Mon, 01 May 2023)
Package: FRASER
Version: 1.12.1
Maintainer: Christian Mertes
MaintainerEmail: mertes at in.tum.de