git_url: https://git.bioconductor.org/packages/FGNet
git_branch: RELEASE_3_17
git_last_commit: e418f5c
git_last_commit_date: 2023-04-25 10:29:22 -0400 (Tue, 25 Apr 2023)
Package: FGNet
Version: 3.34.0
Maintainer: Sara Aibar
MaintainerEmail: saibar at usal.es