git_url: https://git.bioconductor.org/packages/ExperimentSubset
git_branch: RELEASE_3_17
git_last_commit: 851db21
git_last_commit_date: 2023-04-25 11:23:50 -0400 (Tue, 25 Apr 2023)
Package: ExperimentSubset
Version: 1.10.0
Maintainer: Irzam Sarfraz
MaintainerEmail: irzam9095 at gmail.com