git_url: https://git.bioconductor.org/packages/EventPointer
git_branch: RELEASE_3_17
git_last_commit: a9ab053
git_last_commit_date: 2023-04-25 10:52:37 -0400 (Tue, 25 Apr 2023)
Package: EventPointer
Version: 3.8.0
Maintainer: Juan A. Ferrer-Bonsoms
MaintainerEmail: jafhernandez at tecnun.es