git_url: https://git.bioconductor.org/packages/EnrichmentBrowser git_branch: RELEASE_3_17 git_last_commit: ec62d66 git_last_commit_date: 2023-07-29 23:17:28 -0400 (Sat, 29 Jul 2023) Package: EnrichmentBrowser Version: 2.30.2 Maintainer: Ludwig Geistlinger MaintainerEmail: ludwig.geistlinger at gmail.com