Package: EnMCB Version: 1.12.0 Command: F:\biocbuild\bbs-3.17-bioc\R\bin\R.exe CMD INSTALL EnMCB StartedAt: 2023-10-15 16:42:02 -0400 (Sun, 15 Oct 2023) EndedAt: 2023-10-15 16:42:24 -0400 (Sun, 15 Oct 2023) EllapsedTime: 21.7 seconds RetCode: 0 Status: OK