Package: EnMCB Version: 1.12.0 Command: chmod a+r EnMCB -R && F:\biocbuild\bbs-3.17-bioc\R\bin\R.exe CMD build --keep-empty-dirs --no-resave-data EnMCB StartedAt: 2023-10-15 18:55:41 -0400 (Sun, 15 Oct 2023) EndedAt: 2023-10-15 18:56:24 -0400 (Sun, 15 Oct 2023) EllapsedTime: 43.3 seconds RetCode: 0 Status: OK PackageFile: EnMCB_1.12.0.tar.gz PackageFileSize: 4.929 MiB