Package: EnMCB Version: 1.12.0 Command: rm -rf EnMCB.buildbin-libdir && mkdir EnMCB.buildbin-libdir && F:\biocbuild\bbs-3.17-bioc\R\bin\R.exe CMD INSTALL --build --library=EnMCB.buildbin-libdir EnMCB_1.12.0.tar.gz StartedAt: 2023-10-16 08:45:07 -0400 (Mon, 16 Oct 2023) EndedAt: 2023-10-16 08:45:30 -0400 (Mon, 16 Oct 2023) EllapsedTime: 22.9 seconds RetCode: 0 Status: OK PackageFile: EnMCB_1.12.0.zip PackageFileSize: 5.085 MiB