Package: EnMCB Version: 1.12.0 Command: /Library/Frameworks/R.framework/Resources/bin/R CMD build --keep-empty-dirs --no-resave-data EnMCB StartedAt: 2023-10-15 18:08:24 -0400 (Sun, 15 Oct 2023) EndedAt: 2023-10-15 18:09:53 -0400 (Sun, 15 Oct 2023) EllapsedTime: 89.4 seconds RetCode: 0 Status: OK PackageFile: EnMCB_1.12.0.tar.gz PackageFileSize: 4.929 MiB