Package: EWCE Version: 1.8.2 Command: /home/biocbuild/bbs-3.17-bioc/R/bin/R CMD build --keep-empty-dirs --no-resave-data EWCE StartedAt: 2023-10-15 16:45:18 -0400 (Sun, 15 Oct 2023) EndedAt: 2023-10-15 16:49:59 -0400 (Sun, 15 Oct 2023) EllapsedTime: 280.8 seconds RetCode: 0 Status: OK PackageFile: EWCE_1.8.2.tar.gz PackageFileSize: 2.198 MiB