Package: EWCE Version: 1.8.2 Command: /Library/Frameworks/R.framework/Resources/bin/R CMD INSTALL EWCE StartedAt: 2023-10-15 16:30:02 -0400 (Sun, 15 Oct 2023) EndedAt: 2023-10-15 16:31:52 -0400 (Sun, 15 Oct 2023) EllapsedTime: 110.4 seconds RetCode: 0 Status: OK