Package: EWCE Version: 1.8.2 Command: /Library/Frameworks/R.framework/Resources/bin/R CMD check --install=check:EWCE.install-out.txt --library=/Library/Frameworks/R.framework/Resources/library --no-vignettes --timings EWCE_1.8.2.tar.gz StartedAt: 2023-07-12 01:35:59 -0400 (Wed, 12 Jul 2023) EndedAt: 2023-07-12 02:10:21 -0400 (Wed, 12 Jul 2023) EllapsedTime: 2061.7 seconds RetCode: 1 Status: ERROR CheckDir: EWCE.Rcheck Warnings: NA