git_url: https://git.bioconductor.org/packages/ERSSA
git_branch: RELEASE_3_17
git_last_commit: dd65dd6
git_last_commit_date: 2023-04-25 11:04:32 -0400 (Tue, 25 Apr 2023)
Package: ERSSA
Version: 1.18.0
Maintainer: Zixuan Shao
MaintainerEmail: Zixuanshao.zach at gmail.com