Package: EGSEA Version: 1.28.0 Command: /home/biocbuild/bbs-3.17-bioc/R/bin/R CMD INSTALL EGSEA StartedAt: 2023-10-15 15:42:12 -0400 (Sun, 15 Oct 2023) EndedAt: 2023-10-15 15:43:04 -0400 (Sun, 15 Oct 2023) EllapsedTime: 51.4 seconds RetCode: 0 Status: OK