Package: EGSEA Version: 1.28.0 Command: /home/biocbuild/bbs-3.17-bioc/R/bin/R CMD check --install=check:EGSEA.install-out.txt --library=/home/biocbuild/bbs-3.17-bioc/R/site-library --timings EGSEA_1.28.0.tar.gz StartedAt: 2023-10-15 21:02:54 -0400 (Sun, 15 Oct 2023) EndedAt: 2023-10-15 21:14:08 -0400 (Sun, 15 Oct 2023) EllapsedTime: 674.5 seconds RetCode: 1 Status: ERROR CheckDir: EGSEA.Rcheck Warnings: NA