Package: EGSEA Version: 1.28.0 Command: /home/biocbuild/bbs-3.17-bioc/R/bin/R CMD build --keep-empty-dirs --no-resave-data EGSEA StartedAt: 2023-10-15 16:41:19 -0400 (Sun, 15 Oct 2023) EndedAt: 2023-10-15 16:45:45 -0400 (Sun, 15 Oct 2023) EllapsedTime: 266.1 seconds RetCode: 0 Status: OK PackageFile: EGSEA_1.28.0.tar.gz PackageFileSize: 2.039 <A href="http://en.wikipedia.org/wiki/MiB" target="_blank">MiB</A>