git_url: https://git.bioconductor.org/packages/EDIRquery
git_branch: RELEASE_3_17
git_last_commit: 6799187
git_last_commit_date: 2023-04-25 11:44:15 -0400 (Tue, 25 Apr 2023)
Package: EDIRquery
Version: 1.0.0
Maintainer: Laura D.T. Vo Ngoc
MaintainerEmail: doan.vongoc at vub.be