git_url: https://git.bioconductor.org/packages/EBSeqHMM
git_branch: RELEASE_3_17
git_last_commit: 5f43f96
git_last_commit_date: 2023-04-25 10:36:24 -0400 (Tue, 25 Apr 2023)
Package: EBSeqHMM
Version: 1.34.0
Maintainer: Ning Leng
MaintainerEmail: lengning1 at gmail.com