git_url: https://git.bioconductor.org/packages/EBSEA
git_branch: RELEASE_3_17
git_last_commit: f3e2383
git_last_commit_date: 2023-04-25 10:45:54 -0400 (Tue, 25 Apr 2023)
Package: EBSEA
Version: 1.28.0
Maintainer: Arfa Mehmood
MaintainerEmail: arfa.mehmood at utu.fi