git_url: https://git.bioconductor.org/packages/DrugVsDisease
git_branch: RELEASE_3_17
git_last_commit: 4cafa86
git_last_commit_date: 2023-04-25 10:25:32 -0400 (Tue, 25 Apr 2023)
Package: DrugVsDisease
Version: 2.42.0
Maintainer: j. Saez-Rodriguez
MaintainerEmail: saezrodriguez at ebi.ac.uk