Package: DriverNet
Version: 1.40.0
Command: chmod a+r DriverNet -R && F:\biocbuild\bbs-3.17-bioc\R\bin\R.exe CMD build --keep-empty-dirs --no-resave-data DriverNet
StartedAt: 2023-10-15 18:50:29 -0400 (Sun, 15 Oct 2023)
EndedAt: 2023-10-15 18:51:04 -0400 (Sun, 15 Oct 2023)
EllapsedTime: 35.1 seconds
RetCode: 0
Status: OK
PackageFile: DriverNet_1.40.0.tar.gz
PackageFileSize: 1.117 <A href="http://en.wikipedia.org/wiki/MiB" target="_blank">MiB</A>