Package: DriverNet
Version: 1.40.0
Command: rm -rf DriverNet.buildbin-libdir && mkdir DriverNet.buildbin-libdir && F:\biocbuild\bbs-3.17-bioc\R\bin\R.exe CMD INSTALL --build --library=DriverNet.buildbin-libdir DriverNet_1.40.0.tar.gz
StartedAt: 2023-10-16 08:44:00 -0400 (Mon, 16 Oct 2023)
EndedAt: 2023-10-16 08:44:07 -0400 (Mon, 16 Oct 2023)
EllapsedTime: 6.5 seconds
RetCode: 0
Status: OK
PackageFile: DriverNet_1.40.0.zip
PackageFileSize: 1.175 <A href="http://en.wikipedia.org/wiki/MiB" target="_blank">MiB</A>