git_url: https://git.bioconductor.org/packages/Director
git_branch: RELEASE_3_17
git_last_commit: cc3d6f5
git_last_commit_date: 2023-04-25 10:47:06 -0400 (Tue, 25 Apr 2023)
Package: Director
Version: 1.26.0
Maintainer: Katherine Icay
MaintainerEmail: kat.icay at gmail.com