git_url: https://git.bioconductor.org/packages/DiffBind
git_branch: RELEASE_3_17
git_last_commit: 5846014
git_last_commit_date: 2023-08-30 08:24:15 -0400 (Wed, 30 Aug 2023)
Package: DiffBind
Version: 3.10.1
Maintainer: Rory Stark
MaintainerEmail: bioconductor at starkhome.com