git_url: https://git.bioconductor.org/packages/DelayedArray
git_branch: RELEASE_3_17
git_last_commit: 8fb66d4
git_last_commit_date: 2023-07-27 17:16:16 -0400 (Thu, 27 Jul 2023)
Package: DelayedArray
Version: 0.26.7
Maintainer: Hervé Pagès
MaintainerEmail: hpages.on.github at gmail.com