Package: DeMAND Version: 1.30.0 Command: /Library/Frameworks/R.framework/Resources/bin/R CMD build --keep-empty-dirs --no-resave-data DeMAND StartedAt: 2023-10-15 17:52:52 -0400 (Sun, 15 Oct 2023) EndedAt: 2023-10-15 17:53:10 -0400 (Sun, 15 Oct 2023) EllapsedTime: 18.9 seconds RetCode: 0 Status: OK PackageFile: DeMAND_1.30.0.tar.gz PackageFileSize: 318.3 KiB