git_url: https://git.bioconductor.org/packages/DNABarcodeCompatibility
git_branch: RELEASE_3_17
git_last_commit: 1ba7828
git_last_commit_date: 2023-04-25 11:06:32 -0400 (Tue, 25 Apr 2023)
Package: DNABarcodeCompatibility
Version: 1.16.0
Maintainer: Céline Trébeau
MaintainerEmail: ctrebeau at pasteur.fr