git_url: https://git.bioconductor.org/packages/DMCHMM
git_branch: RELEASE_3_17
git_last_commit: b4f404a
git_last_commit_date: 2023-04-25 10:56:06 -0400 (Tue, 25 Apr 2023)
Package: DMCHMM
Version: 1.22.0
Maintainer: Farhad Shokoohi
MaintainerEmail: shokoohi at icloud.com