git_url: https://git.bioconductor.org/packages/DFP
git_branch: RELEASE_3_17
git_last_commit: d545681
git_last_commit_date: 2023-04-25 09:47:23 -0400 (Tue, 25 Apr 2023)
Package: DFP
Version: 1.58.0
Maintainer: Rodrigo Alvarez-Glez
MaintainerEmail: rodrigo.djv at uvigo.es