git_url: https://git.bioconductor.org/packages/DEXSeq
git_branch: RELEASE_3_17
git_last_commit: dad9607
git_last_commit_date: 2023-10-02 03:44:51 -0400 (Mon, 02 Oct 2023)
Package: DEXSeq
Version: 1.46.1
Maintainer: Alejandro Reyes
MaintainerEmail: alejandro.reyes.ds at gmail.com