Package: DEWSeq
Version: 1.14.0
Command: /home/biocbuild/bbs-3.17-bioc/R/bin/R CMD INSTALL DEWSeq
StartedAt: 2023-10-15 15:19:39 -0400 (Sun, 15 Oct 2023)
EndedAt: 2023-10-15 15:20:02 -0400 (Sun, 15 Oct 2023)
EllapsedTime: 22.9 seconds
RetCode: 0
Status: OK