Package: DEWSeq
Version: 1.14.0
Command: /home/biocbuild/bbs-3.17-bioc/R/bin/R CMD check --install=check:DEWSeq.install-out.txt --library=/home/biocbuild/bbs-3.17-bioc/R/site-library --timings DEWSeq_1.14.0.tar.gz
StartedAt: 2023-10-15 20:47:44 -0400 (Sun, 15 Oct 2023)
EndedAt: 2023-10-15 20:51:29 -0400 (Sun, 15 Oct 2023)
EllapsedTime: 225.0 seconds
RetCode: 1
Status: ERROR
CheckDir: DEWSeq.Rcheck
Warnings: NA